BEGIN:VCALENDAR
VERSION:2.0
PRODID:-//Keystone Heritage Park - ECPv6.11.2//NONSGML v1.0//EN
CALSCALE:GREGORIAN
METHOD:PUBLISH
X-ORIGINAL-URL:https://keystoneheritagepark.com/newsite
X-WR-CALDESC:Events for Keystone Heritage Park
REFRESH-INTERVAL;VALUE=DURATION:PT1H
X-Robots-Tag:noindex
X-PUBLISHED-TTL:PT1H
BEGIN:VTIMEZONE
TZID:America/Denver
BEGIN:DAYLIGHT
TZOFFSETFROM:-0700
TZOFFSETTO:-0600
TZNAME:MDT
DTSTART:20250309T090000
END:DAYLIGHT
BEGIN:STANDARD
TZOFFSETFROM:-0600
TZOFFSETTO:-0700
TZNAME:MST
DTSTART:20251102T080000
END:STANDARD
END:VTIMEZONE
BEGIN:VEVENT
DTSTART;TZID=America/Denver:20251205T180000
DTEND;TZID=America/Denver:20251205T210000
DTSTAMP:20260424T201932
CREATED:20251126T163817Z
LAST-MODIFIED:20251126T163817Z
UID:5709-1764957600-1764968400@keystoneheritagepark.com
SUMMARY:Luminarias by the Lake
DESCRIPTION:✨ Luminarias by the Lake\n? Dates: December 5 & 6\, 2025⏰ Time: 6:00 PM – 9:00 PM? Location: Keystone Heritage Park\, 4200 Doniphan Dr.\, El Paso\, TX? Admission: $5 Adults | $2 Children (11 & under) \nExperience the warmth and glow of Luminarias by the Lake—a magical holiday event at Keystone Heritage Park.Enjoy: \n\n\nGlowing luminaria displays surrounding the lake \n\n\nLive music and festive storytelling \n\n\nLocal artisan vendors \n\n\nHot Chocolate Fundraiser by Doña Ana County Ridge Runners 4-H \n\n\nA perfect way to celebrate the season with family\, friends\, and community under the starlit desert sky.
URL:https://keystoneheritagepark.com/newsite/event/luminarias-by-the-lake-4/
LOCATION:Keystone Heritage Park\, 4200 Doniphan Dr\, El Paso\, TX\, 79922\, United States
CATEGORIES:Holiday Events
ATTACH;FMTTYPE=image/jpeg:https://keystoneheritagepark.com/newsite/wp-content/uploads/2025/11/luminarias-nov.jpg
ORGANIZER;CN="Rubyann Gaglio":MAILTO:khpelpaso@gmail.com
END:VEVENT
END:VCALENDAR