BEGIN:VCALENDAR
VERSION:2.0
PRODID:-//Keystone Heritage Park - ECPv6.11.2//NONSGML v1.0//EN
CALSCALE:GREGORIAN
METHOD:PUBLISH
X-WR-CALNAME:Keystone Heritage Park
X-ORIGINAL-URL:https://keystoneheritagepark.com/newsite
X-WR-CALDESC:Events for Keystone Heritage Park
REFRESH-INTERVAL;VALUE=DURATION:PT1H
X-Robots-Tag:noindex
X-PUBLISHED-TTL:PT1H
BEGIN:VTIMEZONE
TZID:America/Denver
BEGIN:DAYLIGHT
TZOFFSETFROM:-0700
TZOFFSETTO:-0600
TZNAME:MDT
DTSTART:20250309T090000
END:DAYLIGHT
BEGIN:STANDARD
TZOFFSETFROM:-0600
TZOFFSETTO:-0700
TZNAME:MST
DTSTART:20251102T080000
END:STANDARD
END:VTIMEZONE
BEGIN:VEVENT
DTSTART;TZID=America/Denver:20250920T190000
DTEND;TZID=America/Denver:20250920T230000
DTSTAMP:20260424T040839
CREATED:20250911T152840Z
LAST-MODIFIED:20250911T155425Z
UID:5644-1758394800-1758409200@keystoneheritagepark.com
SUMMARY:Evening Mystical Market: Autumn Equinox
DESCRIPTION:Evening Mystical Market: Autumn Equinox\nTheme: Calling in the Crows \n? Date: Saturday\, September 20\, 2025⏰ Time: 7:00 PM – 11:00 PM? Location: Keystone Heritage Park\, 4200 Doniphan Dr.\, El Paso\, TX? Entry: $3 park admission \nCelebrate the Autumn Equinox at the enchanting Evening Mystical Market!Enjoy a magical night filled with mystical vendors\, seasonal crafts\, unique treasures\, and a community gathering under the stars. This special equinox edition\, Calling in the Crows\, honors the transition of seasons with mystery\, magic\, and connection. \n? What to Expect: \n\n\nLocal artisans and mystical market vendors \n\n\nSeasonal and spiritual offerings \n\n\nA vibrant evening atmosphere in the desert gardens \n\n\nJoin us for an unforgettable night of magic\, mystery\, and marketplace energy at Keystone Heritage Park.
URL:https://keystoneheritagepark.com/newsite/event/evening-mystical-market-autumn-equinox-el-paso/
LOCATION:TX
CATEGORIES:Market
ATTACH;FMTTYPE=image/jpeg:https://keystoneheritagepark.com/newsite/wp-content/uploads/2025/09/flyer-e1757604506377.jpg
ORGANIZER;CN="Rubyann Gaglio":MAILTO:khpelpaso@gmail.com
END:VEVENT
BEGIN:VEVENT
DTSTART;TZID=America/Denver:20250921T100000
DTEND;TZID=America/Denver:20250921T140000
DTSTAMP:20260424T040839
CREATED:20250911T154608Z
LAST-MODIFIED:20250911T154851Z
UID:5653-1758448800-1758463200@keystoneheritagepark.com
SUMMARY:Keystone Crafts & Culture Market
DESCRIPTION:Keystone Crafts & Culture Market\nCelebrating Hispanic Heritage Month and the Autumn Equinox \n? Date: Sunday\, September 21\, 2025⏰ Time: 10:00 AM – 2:00 PM? Location: Keystone Heritage Park\, 4200 Doniphan Dr.\, El Paso\, TX 79922? Park Entry Fee: Adults $3 | Kids 12 & under $1 | Free for members \nCelebrate Hispanic Heritage Month and the Autumn Equinox with a vibrant community market at Keystone Heritage Park. Enjoy a mostly vegetarian market featuring: \n\n\nLocal art and handmade crafts \n\n\nDelicious food vendors \n\n\nLive music and cultural performances \n\n\nBring your family and friends for a day of culture\, creativity\, and celebration in the gardens!
URL:https://keystoneheritagepark.com/newsite/event/keystone-crafts-culture-market/
LOCATION:TX
CATEGORIES:Market
ATTACH;FMTTYPE=image/png:https://keystoneheritagepark.com/newsite/wp-content/uploads/2025/09/Keystone-Crafts-and-Culture.png
END:VEVENT
END:VCALENDAR