BEGIN:VCALENDAR
VERSION:2.0
PRODID:-//Keystone Heritage Park - ECPv6.11.2//NONSGML v1.0//EN
CALSCALE:GREGORIAN
METHOD:PUBLISH
X-ORIGINAL-URL:https://keystoneheritagepark.com/newsite
X-WR-CALDESC:Events for Keystone Heritage Park
REFRESH-INTERVAL;VALUE=DURATION:PT1H
X-Robots-Tag:noindex
X-PUBLISHED-TTL:PT1H
BEGIN:VTIMEZONE
TZID:America/Denver
BEGIN:DAYLIGHT
TZOFFSETFROM:-0700
TZOFFSETTO:-0600
TZNAME:MDT
DTSTART:20250309T090000
END:DAYLIGHT
BEGIN:STANDARD
TZOFFSETFROM:-0600
TZOFFSETTO:-0700
TZNAME:MST
DTSTART:20251102T080000
END:STANDARD
END:VTIMEZONE
BEGIN:VEVENT
DTSTART;TZID=America/Denver:20251221T100000
DTEND;TZID=America/Denver:20251221T140000
DTSTAMP:20260424T030043
CREATED:20251126T163544Z
LAST-MODIFIED:20251126T164442Z
UID:5705-1766311200-1766325600@keystoneheritagepark.com
SUMMARY:Keystone Craft & Culture Market – Winter Solstice
DESCRIPTION:? Keystone Craft & Culture Market – Winter Solstice\n? Date: Sunday\, December 21\, 2025⏰ Time: 10:00 AM – 2:00 PM? Location: Keystone Heritage Park\, 4200 Doniphan Dr.\, El Paso\, TX? Entry Fee: Adults $3 | Kids 12 & under $1 | Free for members \nCelebrate the Winter Solstice at the Keystone Craft & Culture Market!Enjoy a mostly vegetarian market featuring local art\, handmade crafts\, delicious food\, and live music. Spend the day exploring unique creations from local vendors and embracing the season in the beautiful desert gardens. \nFollow Keystone Heritage Park on Facebook and Instagram for updates and vendor highlights.
URL:https://keystoneheritagepark.com/newsite/event/keystone-craft-culture-market-winter-solstice/
LOCATION:Keystone Heritage Park\, 4200 Doniphan Dr\, El Paso\, TX\, 79922\, United States
CATEGORIES:Market,vegetarian
ATTACH;FMTTYPE=image/png:https://keystoneheritagepark.com/newsite/wp-content/uploads/2025/11/craft.png
ORGANIZER;CN="Rubyann Gaglio":MAILTO:khpelpaso@gmail.com
END:VEVENT
END:VCALENDAR